BEGIN:VCALENDAR
PRODID:-//AT Content Types//AT Event//EN
VERSION:1.0
BEGIN:VEVENT
DTSTART:20201105T213000Z
DTEND:20201105T230000Z
DCREATED:20201104T180248Z
UID:ATEvent-0db447f3b32347398700860180b42319
SEQUENCE:0
LAST-MODIFIED:20201104T180254Z
SUMMARY:Webinar "Pais e Filhos"
LOCATION:Zoom (internet)
PRIORITY:3
TRANSP:0
END:VEVENT
END:VCALENDAR
