BEGIN:VCALENDAR
PRODID:-//AT Content Types//AT Event//EN
VERSION:2.0
METHOD:PUBLISH
BEGIN:VEVENT
DTSTAMP:20260420T212524Z
CREATED:20201104T180434Z
UID:ATEvent-d5b6890e4b2a4046806a4a049e5d6531
LAST-MODIFIED:20201104T180524Z
SUMMARY:Webinar "Pais e Escola"
DTSTART:20201203T213000Z
DTEND:20201203T230000Z
LOCATION:Zoom (internet)
URL:http://familia.patriarcado-lisboa.pt
CLASS:PUBLIC
END:VEVENT
END:VCALENDAR
