BEGIN:VCALENDAR
PRODID:-//AT Content Types//AT Event//EN
VERSION:1.0
BEGIN:VEVENT
DTSTART:20210207T160000Z
DTEND:20210207T170000Z
DCREATED:20210204T181856Z
UID:ATEvent-ec6528f310eb4a7cb0c746318cfbfda0
SEQUENCE:0
LAST-MODIFIED:20210204T200345Z
SUMMARY:Dia de Oração em família
DESCRIPTION:Pelos que sofrem a pandemia e pelo nosso País
LOCATION:No domicílio
PRIORITY:3
TRANSP:0
END:VEVENT
END:VCALENDAR
