BEGIN:VCALENDAR
PRODID:-//AT Content Types//AT Event//EN
VERSION:2.0
METHOD:PUBLISH
BEGIN:VEVENT
DTSTAMP:20260424T142509Z
CREATED:20260424T103133Z
UID:ATEvent-a11a498271184627b8d9c169a5d60fce
LAST-MODIFIED:20260424T103155Z
SUMMARY:Peregrinação da catequese a Fátima
DTSTART:20260610T064500Z
DTEND:20260610T180000Z
DESCRIPTION:Na Peregrinação das Crianças deste ano que assume como 
 título: «E tu? Queres ver a Deus?»\, é lançado o desafio a que ca
 da um possa olhar para aquilo que Lúcia fez para poder fazer como ela
  e\, vendo a Deus\, poder ser reflexo da sua Luz.
LOCATION:Santuário de Fátima
URL:https://www.fatima.pt/pt/pages/peregrinacao-das-criancas-2026
CLASS:PUBLIC
END:VEVENT
END:VCALENDAR
