BEGIN:VCALENDAR
PRODID:-//AT Content Types//AT Event//EN
VERSION:2.0
METHOD:PUBLISH
BEGIN:VEVENT
DTSTAMP:20260420T130603Z
CREATED:20140805T202945Z
UID:ATEvent-af8d7962168646d28ca1f07144ae3aec
LAST-MODIFIED:20140805T203010Z
SUMMARY:Jornadas Nacionais de Catequistas - “A Alegria de anunciar Jesus Cristo”
DTSTART:20141003T200000Z
DTEND:20141005T130000Z
DESCRIPTION:Inscrições até 19 de setembro de 2014
LOCATION:Centro Paulo VI\, Fátima
CONTACT:Departamento da Catequese - Patriarcado de Lisboa\, catequese@patriarcado-lisboa.pt
CLASS:PUBLIC
END:VEVENT
END:VCALENDAR
