BEGIN:VCALENDAR
PRODID:-//AT Content Types//AT Event//EN
VERSION:2.0
METHOD:PUBLISH
BEGIN:VEVENT
DTSTAMP:20260423T231521Z
CREATED:20151003T152340Z
UID:ATEvent-e108e9726629463f9e85496f2c4576e9
LAST-MODIFIED:20151003T152341Z
SUMMARY:Almoço na Abrunheira
DTSTART:20151012T122000Z
DTEND:20151012T170000Z
DESCRIPTION:Almoço convívio para a angariação de fundos.
LOCATION:Terreno da Igreja da Abrunheira
CLASS:PUBLIC
END:VEVENT
END:VCALENDAR
