BEGIN:VCALENDAR
PRODID:-//AT Content Types//AT Event//EN
VERSION:2.0
METHOD:PUBLISH
BEGIN:VEVENT
DTSTAMP:20260420T130257Z
CREATED:20150131T154652Z
UID:ATEvent-80109dca646944698942bf92cee83385
LAST-MODIFIED:20150131T154659Z
SUMMARY:Teatro "O Nazareno"
DTSTART:20150221T211500Z
DTEND:20150221T230000Z
DESCRIPTION:Actuação do Grupo de Teatro da Paróquia de Peniche\, co
 m mais de 50 actores.
LOCATION:Salão da igreja de São Miguel de Sintra
CLASS:PUBLIC
END:VEVENT
END:VCALENDAR
