BEGIN:VCALENDAR
PRODID:-//AT Content Types//AT Event//EN
VERSION:2.0
METHOD:PUBLISH
BEGIN:VEVENT
DTSTAMP:20260425T122017Z
CREATED:20140924T171253Z
UID:ATEvent-9ed902ce232346038da0520ffcb06ea8
LAST-MODIFIED:20140924T171303Z
SUMMARY:Missa das Universidades
DTSTART:20141023T174500Z
DTEND:20141023T190000Z
DESCRIPTION:Celebração no início do ano académico\, organizada pel
 a Pastoral Universitária.
LOCATION:Igreja do Coração de Jesus\, Lisboa
URL:http://www.pulisboa.com/index.php?option=com_content&view=article&id=355:mu14
CLASS:PUBLIC
END:VEVENT
END:VCALENDAR
