BEGIN:VCALENDAR
PRODID:-//AT Content Types//AT Event//EN
VERSION:1.0
BEGIN:VEVENT
DTSTART:20191111T193000Z
DTEND:20191111T230000Z
DCREATED:20191023T140737Z
UID:ATEvent-36e8c3ee33f94fe6bbc53d34d96d5744
SEQUENCE:0
LAST-MODIFIED:20191023T140749Z
SUMMARY:Festa de São Martinho
LOCATION:Igreja de São Martinho
PRIORITY:3
TRANSP:0
END:VEVENT
END:VCALENDAR
