BEGIN:VCALENDAR
PRODID:-//AT Content Types//AT Event//EN
VERSION:2.0
METHOD:PUBLISH
BEGIN:VEVENT
DTSTAMP:20260424T123831Z
CREATED:20230525T140138Z
UID:ATEvent-5cfa66e92a254694b66d1d5f170363e9
LAST-MODIFIED:20230525T140145Z
SUMMARY:Festa da Senhora da Saúde na Penha Longa
DTSTART:20230529T090000Z
DTEND:20230529T220000Z
LOCATION:Igreja da Penha Longa
CLASS:PUBLIC
END:VEVENT
END:VCALENDAR
