BEGIN:VCALENDAR
PRODID:-//AT Content Types//AT Event//EN
VERSION:2.0
METHOD:PUBLISH
BEGIN:VEVENT
DTSTAMP:20260423T231521Z
CREATED:20240118T124459Z
UID:ATEvent-01168861e65b4bc3a397777d4239e465
LAST-MODIFIED:20240118T124510Z
SUMMARY:Ensaio Vicarial de Quaresma e Tempo de Páscoa
DTSTART:20240204T153000Z
DTEND:20240204T173000Z
DESCRIPTION:O grupo de Liturgia da Vigararia de Sintra convida-o/a a p
 articipar no Ensaio de Quaresma e Tempo de Páscoa - A Antífona da Co
 munhão
LOCATION:Igreja de São José de Algueirão
CLASS:PUBLIC
END:VEVENT
END:VCALENDAR
