BEGIN:VCALENDAR
PRODID:-//AT Content Types//AT Event//EN
VERSION:1.0
BEGIN:VEVENT
DTSTART:20141011T080000Z
DTEND:20141011T170000Z
DCREATED:20140927T224912Z
UID:ATEvent-c1ccc25dfa704045bb80ddb8aec9b2b5
SEQUENCE:0
LAST-MODIFIED:20140927T225248Z
SUMMARY:E-vangelizar 2014 - ESTORIL
LOCATION:Escola Salesiana do Estoril em Estoril
PRIORITY:3
TRANSP:0
END:VEVENT
END:VCALENDAR
