BEGIN:VCALENDAR
PRODID:-//AT Content Types//AT Event//EN
VERSION:1.0
BEGIN:VEVENT
DTSTART:20221113T160000Z
DTEND:20221113T170000Z
DCREATED:20221111T113425Z
UID:ATEvent-48260d8a3b0b47e886573ecd598309d2
SEQUENCE:0
LAST-MODIFIED:20221111T113436Z
SUMMARY:Concerto - Magnificat e Árias Sacras
LOCATION:Igreja de São Miguel de Sintra
PRIORITY:3
TRANSP:0
END:VEVENT
END:VCALENDAR
