BEGIN:VCALENDAR
PRODID:-//AT Content Types//AT Event//EN
VERSION:2.0
METHOD:PUBLISH
BEGIN:VEVENT
DTSTAMP:20260423T144658Z
CREATED:20260121T143725Z
UID:ATEvent-2ba4afe3a2d74c918dcb41eb3fc4de46
LAST-MODIFIED:20260123T215459Z
SUMMARY:Almoço à moda da Beira Alta\, a favor da igreja da Várzea de Sintra
DTSTART:20260208T130000Z
DTEND:20260208T150000Z
LOCATION:Salão Paroquial da Igreja de S. Miguel de Sintra
CONTACT:219244744
CLASS:PUBLIC
END:VEVENT
END:VCALENDAR
