BEGIN:VCALENDAR
PRODID:-//AT Content Types//AT Event//EN
VERSION:2.0
METHOD:PUBLISH
BEGIN:VEVENT
DTSTAMP:20260421T081113Z
CREATED:20260120T223801Z
UID:ATEvent-d289ca88273f4568865ebef77882c357
LAST-MODIFIED:20260120T223841Z
SUMMARY:AlmoÃ§o para toda a Unidade Pastoral de Sintra\, com a comemoraÃ§Ã£o do aniversÃ¡rio do P. Armindo
DTSTART:20260125T123000Z
DTEND:20260125T150000Z
DESCRIPTION:AlmoÃ§o organizado pelo grupo "Janela". A data do aniversÃ
 ¡rio do P. Armindo Ã© dia 21 de janeiro\, mas serÃ¡ neste almoÃ§o que 
 lhe cantaremos os parabÃ©ns e partiremos o bolo de aniversÃ¡rio. Parti
 cipe!
LOCATION:SalÃ£o Paroquial da Igreja de S. Miguel de Sintra
CONTACT:966223785\, paroquias.sintra@gmail.com
CLASS:PUBLIC
END:VEVENT
END:VCALENDAR
