BEGIN:VCALENDAR
PRODID:-//AT Content Types//AT Event//EN
VERSION:1.0
BEGIN:VEVENT
DTSTART:20230521T120000Z
DTEND:20230521T150000Z
DCREATED:20230516T180719Z
UID:ATEvent-289cdd296dcd4573b1f8ac18ed63e483
SEQUENCE:0
LAST-MODIFIED:20230516T180728Z
SUMMARY:Almoço de angariação de fundos para a Várzea de Sintra
DESCRIPTION:Venha participar! Ajude a comunidade da Várzea de Sintra 
 a construir a sua igreja!
LOCATION:Salão da Paróquia do Cacém
PRIORITY:3
TRANSP:0
END:VEVENT
END:VCALENDAR
