BEGIN:VCALENDAR
PRODID:-//AT Content Types//AT Event//EN
VERSION:1.0
BEGIN:VEVENT
DTSTART:20191022T130000Z
DTEND:20191024T130000Z
DCREATED:20190906T130409Z
UID:ATEvent-3f32d3dc03064408a9a64d9f9a0dadf0
SEQUENCE:0
LAST-MODIFIED:20190906T130453Z
SUMMARY:33º Encontro da Pastoral Social
DESCRIPTION:O 33º Encontro da Pastoral Social terá lugar de 22 a 24 
 de Outubro\, no Steyler Fátima Hotel\, subordinado ao tema «TRAZER A
 S PERIFERIAS PARA O CENTRO» - apelo insistente do Papa Francisco.
LOCATION:Steyler Fátima Hotel
PRIORITY:3
TRANSP:0
END:VEVENT
END:VCALENDAR
